BEGIN:VCALENDAR
VERSION:2.0
PRODID:Events Booking
BEGIN:VEVENT
UID:69e7703fc6c7f
SUMMARY:Ontario Victory Womens Conference
DESCRIPTION:Victory Womens Conference
LOCATION:80 Prince William Way\, Barrie\, L4N 0G0 Ontario\, Canada
DTSTART:20260522T183000Z
DTEND:20260523T150000Z
DTSTAMP:20260123T223003Z
ORGANIZER:MAILTO:VCC Website
GEO:44.359282;-79.612572
X-APPLE-STRUCTURED-LOCATION;VALUE=URI;X-ADDRESS=80 Prince William Way\, Bar
 rie\, L4N 0G0 Ontario\, Canada;X-APPLE-RADIUS=72;X-TITLE=Barrie Victory Ce
 ntre:44.359282;-79.612572
END:VEVENT
BEGIN:VEVENT
UID:69e7703fc6f21
SUMMARY:Ontario & Quebec Senior Pastors Retreat
DESCRIPTION:Ontario &amp\; Quebec Senior Pastors Retreat
DTSTART:20260625T000500Z
DTEND:20260627T235500Z
DTSTAMP:20260123T223348Z
ORGANIZER:MAILTO:VCC Website
END:VEVENT
BEGIN:VEVENT
UID:69e7703fc6f5a
SUMMARY:Ontario & Quebec Victory Conference
DESCRIPTION:Ontario &amp\; Quebec Victory Conference
DTSTART:20260924T000500Z
DTEND:20260925T235500Z
DTSTAMP:20260123T223518Z
ORGANIZER:MAILTO:VCC Website
END:VEVENT
BEGIN:VEVENT
UID:69e7703fc6f75
SUMMARY:Ontario Victory Men’s Conference
DESCRIPTION:Ontario Victory Men’s Conference
DTSTART:20261106T000500Z
DTEND:20261107T235500Z
DTSTAMP:20260123T223752Z
ORGANIZER:MAILTO:VCC Website
END:VEVENT
END:VCALENDAR